Workbook
Name Auswahl: Equipmentrental!#REF!

Sheet Equipmentrental
A1: Film Equipment Rental - Sebastian Lang
A2: Tel.: +43 660 4893373 | C2: Adresse: Seidengasse 38/1, 1070 Wien
A3: E-Mail: hi@sebastianlang.at | C3: Abholung und Rückgabe nach Absprache
A4: Hinweis zur Versicherung: Das gesamte Equipment (außgenommen Drohne) ist über die medien-finanzservice.de mit Allgefahrendeckung für den Verleih versichert. Im Schadensfall besteht eine Selbstbeteiligung von 500€ zzgl. MwSt. Genaue Versicherungsbedingungen finden Sie unter: www.langfilm.at/hierlinkeinfügen
A5: QUICK GUIDE Damit das Excel-Tool richtig funktioniert, muss die Datei heruntergeladen und in Microsoft Excel in der Desktop-Version geöffnet werden! Bitte alle blauen Felder vollständig ausfüllen und im Anschluss die gewünschten Artikel in der linken Spalte auswählen. Der Preis errechnet sich dann automatisch und du findest auf Blatt 2 eine Packliste sowie auf Blatt 3 die Vorschau deines Mietvertrags. Danach bitte das Excel-File speichern und an mich retournieren. Abholung und Rückgabe machen wir uns persönlich aus. Viel Spaß beim Durchstöbern! :)
A6: Name
A7: Adresse
A8: Projekttitel
A9: E-Mail
A10: Telefonnummer
A11: Anzahl Drehtage | B11: 1 | C11: Mietpreis pro DT | D11: =SUM(E20:E604) -> 0
A12: Abholung am | C12: Mietpreis Gesamt | D12: =D11*B11 -> 0
A13: Uhrzeit | C13: Rabatt
A14: Rückgabe am | C14: Summe Netto | D14: =D13+D12 -> 0
A15: Uhrzeit | C15: 20% MwSt | D15: =D14*0.2 -> 0
C16: Gesamtsumme Brutto | D16: =D14+D15 -> 0
A18: Auswahl | B18: Equipment | C18: Miete pro Tag | D18: Anmerkung | E18: Hilfsspalte
B19: Kameras
A20: FALSE | B20: Sony FX6 Camera Package | C20: 140 | D20: Optiken bitte getrennt auswählen | E20: =IF(A20=TRUE,C20,0) -> 0
B21: Sony FX6, Vollformat E-Mount, inkl. XLR Top-Handle & Side-Grip | E21: =IF(A21=TRUE,C21,0) -> 0
B22: Tilta Cage Advanced Kit (V-Mount) | D22: V-Mount Akkus bitte getrennt auswählen | E22: =IF(A22=TRUE,C22,0) -> 0
B23: CFexpress Typ A Karte 160GB (W: 700MB/s) [1] | D23: bitte formatiert zürückgeben | E23: =IF(A23=TRUE,C23,0) -> 0
B24: SDXC UHS-II Karte 256GB (W: 260MB/s) [1] | D24: bitte formatiert zürückgeben | E24: =IF(A24=TRUE,C24,0) -> 0
B25: BP-U35 Akku [1] | E25: =IF(A25=TRUE,C25,0) -> 0
E26: =IF(A26=TRUE,C26,0) -> 0
A27: FALSE | B27: Sony FX3 Camera Package | C27: 90 | D27: Optiken bitte getrennt auswählen | E27: =IF(A27=TRUE,C27,0) -> 0 | F27: EXTERN
B28: Sony FX3, Vollformat E-Mount | E28: =IF(A28=TRUE,C28,0) -> 0
B29: Smallig Cage, Top Handle | E29: =IF(A29=TRUE,C29,0) -> 0
B30: SDXC UHS-I Karte 128GB (W: 90MB/s) [1] | D30: bitte formatiert zürückgeben | E30: =IF(A30=TRUE,C30,0) -> 0
B31: NP-FZ 100 Akku [1] | E31: =IF(A31=TRUE,C31,0) -> 0
B32: NP-FZ 100 Akku [2] | E32: =IF(A32=TRUE,C32,0) -> 0
E33: =IF(A33=TRUE,C33,0) -> 0
A34: FALSE | B34: Sony a 7III Camera Package | C34: 50 | D34: Optiken bitte getrennt auswählen | E34: =IF(A34=TRUE,C34,0) -> 0
B35: Sony alpha 7III, Vollformat E-Mount | E35: =IF(A35=TRUE,C35,0) -> 0
B36: Smallrig Cage, Top Handle, Micro-HDMI auf Full-HDMI Adapter | E36: =IF(A36=TRUE,C36,0) -> 0
B37: SDXC UHS-I Karte 128GB (W: 90MB/s) [1] | D37: bitte formatiert zürückgeben | E37: =IF(A37=TRUE,C37,0) -> 0
B38: NP-FZ 100 Akku [1] | E38: =IF(A38=TRUE,C38,0) -> 0
B39: NP-FZ 100 Akku [2] | E39: =IF(A39=TRUE,C39,0) -> 0
E40: =IF(A40=TRUE,C40,0) -> 0
A41: FALSE | B41: Sony a 6000 Camera Package | C41: 30 | E41: =IF(A41=TRUE,C41,0) -> 0
...

Sheet Packliste
A1: Film Equipment Rental - Sebastian Lang
A2: Tel.: +43 660 4893373 | C2: Adresse: Seidengasse 38/1, 1070 Wien
A3: E-Mail: hi@sebastianlang.at | C3: Abholung und Rückgabe nach Absprache
A4: {=Equipmentrental!A6:B15} -> Name | B4: 0
A5: Adresse | B5: 0
A6: Projekttitel | B6: 0
A7: E-Mail | B7: 0
A8: Telefonnummer | B8: 0 | C8: {=Equipmentrental!C11:D16} -> Mietpreis pro DT | D8: 0
A9: Anzahl Drehtage | B9: 1 | C9: Mietpreis Gesamt | D9: 0
A10: Abholung am | B10: 0 | C10: Rabatt | D10: 0
A11: Uhrzeit | B11: 0 | C11: Summe Netto | D11: 0
A12: Rückgabe am | B12: 0 | C12: 20% MwSt | D12: 0
A13: Uhrzeit | B13: 0 | C13: Gesamtsumme Brutto | D13: 0
A15: Equipment | B15: Miete pro Tag | C15: Eingepackt | D15: Zurückgebracht
A16: {=_xlfn._xlws.FILTER(Equipmentrental!B20:C396, Equipmentrental!A20:A396=TRUE)} -> #VALUE!

Sheet Mietvertrag
A1: Mietvertrag für Video-Equipment
A3: 1. Vertragsparteien
A4: Vermieter: | B4: Sebastian Lang
A5: Adresse: | B5: Seidengasse 38/1, 1070 Wien
A6: E-Mail: | B6: office@langfilm.at
A7: Telefon: | B7: +43 660 4893373
A9: Mieter: | B9: =Equipmentrental!B6 -> 0
A10: Adresse: | B10: =Equipmentrental!B7 -> 0
A11: E-Mail: | B11: =Equipmentrental!B9 -> 0
A12: Telefon: | B12: =Equipmentrental!B10 -> 0
A14: 2. Mietgegenstand
A15: Der Vermieter vermietet dem Mieter das Videoequipment in der Anlage (Packliste).
A17: 3. Mietdauer
A18: Abholung: | B18: =Equipmentrental!B12 -> 0
A19: Rückgabe: | B19: =Equipmentrental!B14 -> 0
A20: Anzahl Drehtage: | B20: =Equipmentrental!B11 -> 1
A22: 4. Mietpreis
A23: Der Gesamtmietpreis beträgt: | B23: =Equipmentrental!D16 -> 0
A24: Die Zahlung erfolgt per Banküberweisung an | B24: Sebastian Lang
B25: IBAN: AT 54 2011 1845 2386 5400
B26: BIC: GIBAATWWXXX
A28: 5. Haftung und Versicherung
A29: Der Mieter ist verpflichtet, das Equipment pfleglich zu behandeln und es in demselben Zustand zurückzugeben, in dem es übernommen wurde. Das gesamte Equipment (außgenommen Drohne) ist über die medien-finanzservice.de mit Allgefahrendeckung für den Verleih versichert. Im Schadensfal besteht eine Selbstbeteiligung von 500€ zzgl. MwSt. Genaue Versicherungsbedingungen finden Sie unter: www.langfilm.at/hierlinkeinfügen. Schäden sind unverzüglich telefonisch an Sebastian Lang zu melden!
A31: 6. Nutzung und Rückgabe
A32: Das Equipment darf nur für den vereinbarten Zweck genutzt werden. Der Mieter darf es nicht an Dritte weitervermieten oder verleihen. Die Rückgabe hat spätestens am vereinbarten Enddatum in einwandfreiem Zustand zu erfolgen.
A34: 7. Schlussbestimmungen
A35: Mit seiner Unterschrift bestätigt der Mieter, dass er das Equipment in einwandfreiem Zustand erhalten hat. Sollten einzelne Bestimmungen dieses Vertrags unwirksam sein, bleibt der Vertrag im Übrigen gültig. Er erkennt die Vertragsbedingungen an und verpflichtet sich zur Einhaltung.
A37: Ort, Datum:
A38: Unterschriften:
A40: Vermieter: Sebastian Lang | B40: Mieter:
